BEGIN:VCALENDAR
PRODID:-//Microsoft Corporation//Outlook 12.0 MIMEDIR//EN
VERSION:2.0
METHOD:PUBLISH
X-MS-OLK-FORCEINSPECTOROPEN:TRUE
BEGIN:VEVENT
CLASS:PUBLIC
DESCRIPTION: 
DTEND:20260329T22:00:00Z
DTSTAMP:20260421T10:13:02Z
DTSTART:20260328T15:00:00Z
LAST-MODIFIED:20260421T10:13:02Z
LOCATION: Taos Ski Area[location]
SUMMARY;LANGUAGE=en-us:RM - Alpine Teaching Intermediate Skiers to Explore the Mountain - Southern District Spring Fling - Cancelled
UID:20260421T10:13:02Z-17475-1741738967
END:VEVENT
END:VCALENDAR
