BEGIN:VCALENDAR
PRODID:-//Microsoft Corporation//Outlook 12.0 MIMEDIR//EN
VERSION:2.0
METHOD:PUBLISH
X-MS-OLK-FORCEINSPECTOROPEN:TRUE
BEGIN:VEVENT
CLASS:PUBLIC
DESCRIPTION: 
DTEND:20260318T02:00:00Z
DTSTAMP:20260420T10:14:24Z
DTSTART:20260318T00:00:00Z
LAST-MODIFIED:20260420T10:14:24Z
LOCATION: Online[location]
SUMMARY;LANGUAGE=en-us:RM - Webinar: Analyze & Apply - Movement Analysis of Skiers Who Use 3-T, 4-T, or Slider Equipment
UID:20260420T10:14:24Z-17463-1686819832
END:VEVENT
END:VCALENDAR
