BEGIN:VCALENDAR
PRODID:-//Microsoft Corporation//Outlook 12.0 MIMEDIR//EN
VERSION:2.0
METHOD:PUBLISH
X-MS-OLK-FORCEINSPECTOROPEN:TRUE
BEGIN:VEVENT
CLASS:PUBLIC
DESCRIPTION: 
DTEND:20260311T22:00:00Z
DTSTAMP:20260423T08:53:12Z
DTSTART:20260311T14:45:00Z
LAST-MODIFIED:20260423T08:53:12Z
LOCATION: Breckenridge Ski Area[location]
SUMMARY;LANGUAGE=en-us:RM - Alpine Trainer Ski Assessment
UID:20260423T08:53:12Z-17459-73902076
END:VEVENT
END:VCALENDAR
