BEGIN:VCALENDAR
PRODID:-//Microsoft Corporation//Outlook 12.0 MIMEDIR//EN
VERSION:2.0
METHOD:PUBLISH
X-MS-OLK-FORCEINSPECTOROPEN:TRUE
BEGIN:VEVENT
CLASS:PUBLIC
DESCRIPTION: 
DTEND:20260309T22:00:00Z
DTSTAMP:20260422T08:37:34Z
DTSTART:20260309T14:45:00Z
LAST-MODIFIED:20260422T08:37:34Z
LOCATION: Breckenridge Ski Area[location]
SUMMARY;LANGUAGE=en-us:RM - Alpine Trainer MA/Tech Assessment
UID:20260422T08:37:34Z-17453-1888779084
END:VEVENT
END:VCALENDAR
