BEGIN:VCALENDAR
PRODID:-//Microsoft Corporation//Outlook 12.0 MIMEDIR//EN
VERSION:2.0
METHOD:PUBLISH
X-MS-OLK-FORCEINSPECTOROPEN:TRUE
BEGIN:VEVENT
CLASS:PUBLIC
DESCRIPTION: 
DTEND:20260305T23:00:00Z
DTSTAMP:20260421T08:56:16Z
DTSTART:20260304T16:00:00Z
LAST-MODIFIED:20260421T08:56:16Z
LOCATION: Buttermilk Ski Area[location]
SUMMARY;LANGUAGE=en-us:RM - Children's Clinic: Skill Based Play
UID:20260421T08:56:16Z-17447-917821373
END:VEVENT
END:VCALENDAR
