BEGIN:VCALENDAR
PRODID:-//Microsoft Corporation//Outlook 12.0 MIMEDIR//EN
VERSION:2.0
METHOD:PUBLISH
X-MS-OLK-FORCEINSPECTOROPEN:TRUE
BEGIN:VEVENT
CLASS:PUBLIC
DESCRIPTION: 
DTEND:20260302T23:00:00Z
DTSTAMP:20260422T08:37:21Z
DTSTART:20260302T16:00:00Z
LAST-MODIFIED:20260422T08:37:21Z
LOCATION: Snowmass Ski Area[location]
SUMMARY;LANGUAGE=en-us:RM - Snowboard 301 - Single Day
UID:20260422T08:37:21Z-17114-1202159044
END:VEVENT
END:VCALENDAR
