BEGIN:VCALENDAR
PRODID:-//Microsoft Corporation//Outlook 12.0 MIMEDIR//EN
VERSION:2.0
METHOD:PUBLISH
X-MS-OLK-FORCEINSPECTOROPEN:TRUE
BEGIN:VEVENT
CLASS:PUBLIC
DESCRIPTION: There will be a hosted dinner Monday evening.\nThe resort is supporting this educational event with lift tickets for those who do not have a pass at the area.
DTEND:20260311T23:00:00Z
DTSTAMP:20260421T10:12:20Z
DTSTART:20260309T15:30:00Z
LAST-MODIFIED:20260421T10:12:20Z
LOCATION: Schweitzer Mountain Resort[location]
SUMMARY;LANGUAGE=en-us:Divisional Academy
UID:20260421T10:12:20Z-17628-441246319
END:VEVENT
END:VCALENDAR
