BEGIN:VCALENDAR
PRODID:-//Microsoft Corporation//Outlook 12.0 MIMEDIR//EN
VERSION:2.0
METHOD:PUBLISH
X-MS-OLK-FORCEINSPECTOROPEN:TRUE
BEGIN:VEVENT
CLASS:PUBLIC
DESCRIPTION: \n\n2/10/25- Level 2 MA/Tech Assessment Day2/11/25- Level 2 Teach Assessment Day2/12/25- Level 2 Ski Assessment Day\n\n\nLodging OfferPSIA-AASI members get 20% off selected lodging when you stay 2 nights or more. New reservations only, please call 307-353-2300 Ext. 1800. Guests must show valid membership at check-in. Reservations are non-refundable Subject to availablilty, taxes and fees. Not available for group stays\n\n\n\n\nSPOT INSURANCE OFFER$25k injury coverage. $0 deductible.Make the most of your event, with Spot Insurance. Spot's policy pays up to $25,000 of your medical bills, with $0 deductible.For only $12.99 per day, you're covered while skiing or snowboarding at your event--no matter if you have health insurance or not.Ready to ski or ride harder? Select "Choose" to add Spot below, then pay for your event like you normally would. A policy will be generated and someone from Spot will get in touch with more details. Policy modifications and cancellations must be done at least five days before the start date of the event. The policy is fully refundable until that time and is non-refundable after. Full coverage details found here: https://www.getspot.com/benefit-summary/psia-aasi-events Spot also offers annual insurance to keep you covered anytime you're skiing, riding, or mountain biking during the year for only $149.99. Learn more in your pro offer portal.
DTEND:20250212T23:00:00Z
DTSTAMP:20260422T11:45:35Z
DTSTART:20250210T15:30:00Z
LAST-MODIFIED:20260422T11:45:35Z
LOCATION: Grand Targhee Resort[location]
SUMMARY;LANGUAGE=en-us:Alpine II MA & Tech/Teach/Ski Assessments
UID:20260422T11:45:35Z-14972-840492832
END:VEVENT
END:VCALENDAR
