BEGIN:VCALENDAR
PRODID:-//Microsoft Corporation//Outlook 12.0 MIMEDIR//EN
VERSION:2.0
METHOD:PUBLISH
X-MS-OLK-FORCEINSPECTOROPEN:TRUE
BEGIN:VEVENT
CLASS:PUBLIC
DESCRIPTION: 
DTEND:20260311T22:00:00Z
DTSTAMP:20260420T13:38:02Z
DTSTART:20260311T14:45:00Z
LAST-MODIFIED:20260420T13:38:02Z
LOCATION: Snowbasin[location]
SUMMARY;LANGUAGE=en-us:Alpine Level 3 Carving Clinic
UID:20260420T13:38:02Z-17375-780594642
END:VEVENT
END:VCALENDAR
