BEGIN:VCALENDAR
PRODID:-//Microsoft Corporation//Outlook 12.0 MIMEDIR//EN
VERSION:2.0
METHOD:PUBLISH
X-MS-OLK-FORCEINSPECTOROPEN:TRUE
BEGIN:VEVENT
CLASS:PUBLIC
DESCRIPTION:  \n\n 
DTEND:20260311T22:00:00Z
DTSTAMP:20260419T13:00:38Z
DTSTART:20260311T14:45:00Z
LAST-MODIFIED:20260419T13:00:38Z
LOCATION: Brighton Resort[location]
SUMMARY;LANGUAGE=en-us:Snowboard Level 3 Teaching Clinic
UID:20260419T13:00:38Z-17374-1896707010
END:VEVENT
END:VCALENDAR
