BEGIN:VCALENDAR
PRODID:-//Microsoft Corporation//Outlook 12.0 MIMEDIR//EN
VERSION:2.0
METHOD:PUBLISH
X-MS-OLK-FORCEINSPECTOROPEN:TRUE
BEGIN:VEVENT
CLASS:PUBLIC
DESCRIPTION:  \n\n 
DTEND:20260310T22:00:00Z
DTSTAMP:20260422T10:05:37Z
DTSTART:20260310T14:45:00Z
LAST-MODIFIED:20260422T10:05:37Z
LOCATION: Snowbird[location]
SUMMARY;LANGUAGE=en-us:CANCELLED: Snowboard Level 3 Riding Clinic
UID:20260422T10:05:37Z-17371-730345172
END:VEVENT
END:VCALENDAR
