BEGIN:VCALENDAR
PRODID:-//Microsoft Corporation//Outlook 12.0 MIMEDIR//EN
VERSION:2.0
METHOD:PUBLISH
X-MS-OLK-FORCEINSPECTOROPEN:TRUE
BEGIN:VEVENT
CLASS:PUBLIC
DESCRIPTION: 
DTEND:20260302T23:00:00Z
DTSTAMP:20260420T08:40:05Z
DTSTART:20260302T15:45:00Z
LAST-MODIFIED:20260420T08:40:05Z
LOCATION: Deer Valley[location]
SUMMARY;LANGUAGE=en-us:Alpine Level 3 Edge Control Skills
UID:20260420T08:40:05Z-17353-1731140631
END:VEVENT
END:VCALENDAR
