BEGIN:VCALENDAR
PRODID:-//Microsoft Corporation//Outlook 12.0 MIMEDIR//EN
VERSION:2.0
METHOD:PUBLISH
X-MS-OLK-FORCEINSPECTOROPEN:TRUE
BEGIN:VEVENT
CLASS:PUBLIC
DESCRIPTION: 
DTEND:20260302T23:00:00Z
DTSTAMP:20260423T10:21:17Z
DTSTART:20260302T15:45:00Z
LAST-MODIFIED:20260423T10:21:17Z
LOCATION: Deer Valley[location]
SUMMARY;LANGUAGE=en-us:Alpine Level 2 Edge Control Skills
UID:20260423T10:21:17Z-17352-155303596
END:VEVENT
END:VCALENDAR
