BEGIN:VCALENDAR
PRODID:-//Microsoft Corporation//Outlook 12.0 MIMEDIR//EN
VERSION:2.0
METHOD:PUBLISH
X-MS-OLK-FORCEINSPECTOROPEN:TRUE
BEGIN:VEVENT
CLASS:PUBLIC
DESCRIPTION: 
DTEND:20260329T20:00:00Z
DTSTAMP:20260421T10:28:18Z
DTSTART:20260328T12:45:00Z
LAST-MODIFIED:20260421T10:28:18Z
LOCATION: Stratton (VT)[location]
SUMMARY;LANGUAGE=en-us:¦¦¦Snowboard Level I Assessment @ Spring Rally
UID:20260421T10:28:18Z-18810-191416479
END:VEVENT
END:VCALENDAR
