BEGIN:VCALENDAR
PRODID:-//Microsoft Corporation//Outlook 12.0 MIMEDIR//EN
VERSION:2.0
METHOD:PUBLISH
X-MS-OLK-FORCEINSPECTOROPEN:TRUE
BEGIN:VEVENT
CLASS:PUBLIC
DESCRIPTION: 
DTEND:20260327T20:00:00Z
DTSTAMP:20260420T10:15:17Z
DTSTART:20260327T12:00:00Z
LAST-MODIFIED:20260420T10:15:17Z
LOCATION: NEDS at Bretton Woods (NH)[location]
SUMMARY;LANGUAGE=en-us:Cancelled - Adaptive Alpine Level I Assessment - VI/Cog - 1 Day
UID:20260420T10:15:17Z-16695-1867068677
END:VEVENT
END:VCALENDAR
