BEGIN:VCALENDAR
PRODID:-//Microsoft Corporation//Outlook 12.0 MIMEDIR//EN
VERSION:2.0
METHOD:PUBLISH
X-MS-OLK-FORCEINSPECTOROPEN:TRUE
BEGIN:VEVENT
CLASS:PUBLIC
DESCRIPTION: 
DTEND:20260313T20:00:00Z
DTSTAMP:20260422T08:35:03Z
DTSTART:20260312T12:45:00Z
LAST-MODIFIED:20260422T08:35:03Z
LOCATION: Sugarbush (VT)[location]
SUMMARY;LANGUAGE=en-us:¦¦¦RELOCATED: Alpine Intro to Trees & Steeps
UID:20260422T08:35:03Z-16673-784590871
END:VEVENT
END:VCALENDAR
