BEGIN:VCALENDAR
PRODID:-//Microsoft Corporation//Outlook 12.0 MIMEDIR//EN
VERSION:2.0
METHOD:PUBLISH
X-MS-OLK-FORCEINSPECTOROPEN:TRUE
BEGIN:VEVENT
CLASS:PUBLIC
DESCRIPTION: 
DTEND:20260302T21:00:00Z
DTSTAMP:20260423T10:21:37Z
DTSTART:20260302T13:45:00Z
LAST-MODIFIED:20260423T10:21:37Z
LOCATION: Massanutten (VA)[location]
SUMMARY;LANGUAGE=en-us:CANCELLED Alpine Level II Orientation
UID:20260423T10:21:37Z-16554-1755846167
END:VEVENT
END:VCALENDAR
