BEGIN:VCALENDAR
PRODID:-//Microsoft Corporation//Outlook 12.0 MIMEDIR//EN
VERSION:2.0
METHOD:PUBLISH
X-MS-OLK-FORCEINSPECTOROPEN:TRUE
BEGIN:VEVENT
CLASS:PUBLIC
DESCRIPTION: \n\n\n
DTEND:20260309T20:00:00Z
DTSTAMP:20260422T10:04:20Z
DTSTART:20260309T12:45:00Z
LAST-MODIFIED:20260422T10:04:20Z
LOCATION: Killington (VT)[location]
SUMMARY;LANGUAGE=en-us:¦¦¦Snowboard Level II Assessment - Riding Module - 1 Day
UID:20260422T10:04:20Z-15978-2134911929
END:VEVENT
END:VCALENDAR
