BEGIN:VCALENDAR
PRODID:-//Microsoft Corporation//Outlook 12.0 MIMEDIR//EN
VERSION:2.0
METHOD:PUBLISH
X-MS-OLK-FORCEINSPECTOROPEN:TRUE
BEGIN:VEVENT
CLASS:PUBLIC
DESCRIPTION: Lift Tickets $16/Day\n
DTEND:20260310T23:00:00Z
DTSTAMP:20260423T10:21:07Z
DTSTART:20260309T15:30:00Z
LAST-MODIFIED:20260423T10:21:07Z
LOCATION: Palisades Tahoe at Olympic Valley[location]
SUMMARY;LANGUAGE=en-us:Alpine Level 2 Teach Assessment
UID:20260423T10:21:07Z-16144-1751181782
END:VEVENT
END:VCALENDAR
