BEGIN:VCALENDAR
PRODID:-//Microsoft Corporation//Outlook 12.0 MIMEDIR//EN
VERSION:2.0
METHOD:PUBLISH
X-MS-OLK-FORCEINSPECTOROPEN:TRUE
BEGIN:VEVENT
CLASS:PUBLIC
DESCRIPTION: Lift Tickets $16/Day\n
DTEND:20260310T23:00:00Z
DTSTAMP:20260422T12:50:31Z
DTSTART:20260309T15:30:00Z
LAST-MODIFIED:20260422T12:50:31Z
LOCATION: Palisades Tahoe at Olympic Valley[location]
SUMMARY;LANGUAGE=en-us:Snowboard Level 2 Teach Assessment
UID:20260422T12:50:31Z-16143-1285867935
END:VEVENT
END:VCALENDAR
