BEGIN:VCALENDAR
PRODID:-//Microsoft Corporation//Outlook 12.0 MIMEDIR//EN
VERSION:2.0
METHOD:PUBLISH
X-MS-OLK-FORCEINSPECTOROPEN:TRUE
BEGIN:VEVENT
CLASS:PUBLIC
DESCRIPTION: Lift Tickets $16/day\n\n
DTEND:20260310T23:00:00Z
DTSTAMP:20260420T12:47:52Z
DTSTART:20260309T15:30:00Z
LAST-MODIFIED:20260420T12:47:52Z
LOCATION: Snow Summit[location]
SUMMARY;LANGUAGE=en-us:Snowboard Level 1 Assessment
UID:20260420T12:47:52Z-15795-647486335
END:VEVENT
END:VCALENDAR
