BEGIN:VCALENDAR
PRODID:-//Microsoft Corporation//Outlook 12.0 MIMEDIR//EN
VERSION:2.0
METHOD:PUBLISH
X-MS-OLK-FORCEINSPECTOROPEN:TRUE
BEGIN:VEVENT
CLASS:PUBLIC
DESCRIPTION: Our Welcome to the Western Region Clinic is open to any Cross Country person, member or non-member, interested in becoming an instructor or a better instructor. This clinic will explore PSIA-AASI resources and the Learning Connection Model and provide individualized feedback on your cross country skills and techniques.\n\nSPOT INSURANCE OFFER$25k injury coverage. $0 deductible.Make the most of your event, with Spot Insurance. Spot's policy pays up to $25,000 of your medical bills, with $0 deductible.For only $12.99 per day you're covered while skiing or snowboarding at your event--no matter if you have health insurance or not.Ready to ski or ride harder? Select "Choose" to add Spot below, then pay for your event like you normally would. A policy will be generated and someone from Spot will get in touch with more details.Policy modifications and cancellations must be done at least five days before the start date of the event. The policy is fully refundable until that time and is non-refundable after.Full coverage details found here: https://www.getspot.com/benefit-summary/psia-aasi-eventsSpot also offers annual insurance to keep you covered anytime you're skiing, riding, or mountain biking during the year for only $149.99. Learn more in your pro offer portal.
DTEND:20250314T23:00:00Z
DTSTAMP:20260422T10:05:27Z
DTSTART:20250314T15:30:00Z
LAST-MODIFIED:20260422T10:05:27Z
LOCATION: Tahoe Donner Cross Country Ski Center[location]
SUMMARY;LANGUAGE=en-us:Cross Country Education Day - Welcome to the Western Region
UID:20260422T10:05:27Z-15417-865823406
END:VEVENT
END:VCALENDAR
